BEGIN:VCALENDAR
VERSION:2.0
PRODID:-//81.169.145.149//NONSGML kigkonsult.se iCalcreator 2.20//
CALSCALE:GREGORIAN
METHOD:PUBLISH
X-WR-TIMEZONE:UTC
BEGIN:VEVENT
UID:event440@Rheinische-Provence
DTSTAMP:20260422T024314Z
CATEGORIES:Konzerte
DESCRIPTION:Romantische Klänge für Saxophon und Klavier\nKategorie: Konzert
 e\nICS-Link: http://testj4.villa-lemper.de/index.php?option=com_jem&view=e
 vent&id=440:romantische-klaenge-fuer-saxophon-und-klavier\n
DTSTART:20230604T190000Z
DTEND:20230604T190000Z
LOCATION:Gelbe Villa\,Nussallee 27\,50354 Hürth
SUMMARY:Romantische Klänge für Saxophon und Klavier
URL:http://testj4.villa-lemper.de/index.php?option=com_jem&view=event&id=44
 0:romantische-klaenge-fuer-saxophon-und-klavier
END:VEVENT
END:VCALENDAR